BEGIN:VCALENDAR
VERSION:2.0
PRODID:-//Aldwincle Parish Council//Meeting Calendar//EN
CALSCALE:GREGORIAN
METHOD:PUBLISH
BEGIN:VEVENT
UID:70891-20250217@aldwincleparishcouncil.gov.uk
DTSTAMP:20260421T181752Z
DTSTART;VALUE=DATE:20250217
DTEND;VALUE=DATE:20250218
SUMMARY:Parish Council 17th February 2025
DESCRIPTION:Full Council Meeting\nView details: https://aldwincleparishcouncil.gov.uk/meetings/parish-council-17th-february-2025/
URL:https://aldwincleparishcouncil.gov.uk/meetings/parish-council-17th-february-2025/
END:VEVENT
END:VCALENDAR
