BEGIN:VCALENDAR
VERSION:2.0
PRODID:-//Aldwincle Parish Council//Meeting Calendar//EN
CALSCALE:GREGORIAN
METHOD:PUBLISH
BEGIN:VEVENT
UID:71006-20250623@aldwincleparishcouncil.gov.uk
DTSTAMP:20260421T145307Z
DTSTART;VALUE=DATE:20250623
DTEND;VALUE=DATE:20250624
SUMMARY:Council Meeting 23rd June 2025
DESCRIPTION:Full Council Meeting\nView details: https://aldwincleparishcouncil.gov.uk/meetings/council-meeting/
URL:https://aldwincleparishcouncil.gov.uk/meetings/council-meeting/
END:VEVENT
END:VCALENDAR
