BEGIN:VCALENDAR
VERSION:2.0
PRODID:-//Aldwincle Parish Council//Meeting Calendar//EN
CALSCALE:GREGORIAN
METHOD:PUBLISH
BEGIN:VEVENT
UID:71017-20250901@aldwincleparishcouncil.gov.uk
DTSTAMP:20260421T113028Z
DTSTART;VALUE=DATE:20250901
DTEND;VALUE=DATE:20250902
SUMMARY:Council Meeting 1st September 2025
DESCRIPTION:Full Council Meeting\nView details: https://aldwincleparishcouncil.gov.uk/meetings/full-council-meeting/
URL:https://aldwincleparishcouncil.gov.uk/meetings/full-council-meeting/
END:VEVENT
END:VCALENDAR
