BEGIN:VCALENDAR
VERSION:2.0
PRODID:-//Aldwincle Parish Council//Meeting Calendar//EN
CALSCALE:GREGORIAN
METHOD:PUBLISH
BEGIN:VEVENT
UID:71087-20251013@aldwincleparishcouncil.gov.uk
DTSTAMP:20260421T081814Z
DTSTART;VALUE=DATE:20251013
DTEND;VALUE=DATE:20251014
SUMMARY:Council Meeting 13th October
DESCRIPTION:Full Council Meeting\nView details: https://aldwincleparishcouncil.gov.uk/meetings/council-meeting-13th-october/
URL:https://aldwincleparishcouncil.gov.uk/meetings/council-meeting-13th-october/
END:VEVENT
END:VCALENDAR
